Workbook

Sheet ASM & Model
B1: WIP Model for Intellectual Exercise
C3: < Historical > | M3: | Current | | N3: >>> Projection >>>
B4: james.yeh@yncm-rs.com | C4: =YEAR(C5) -> 2017 | D4: =YEAR(D5) -> 2017 | E4: =YEAR(E5) -> 2017 | F4: =YEAR(F5) -> 2017 | G4: =YEAR(G5) -> 2018 | H4: =YEAR(H5) -> 2018 | I4: =YEAR(I5) -> 2018 | J4: =YEAR(J5) -> 2018 | ... BF4: =YEAR(BF5) -> 2030
B5: (In thousands) | C5: 42825 | D5: 42916 | E5: 43008 | F5: 43100 | G5: 43190 | H5: 43281 | I5: 43373 | J5: 43465 | K5: 43555 | L5: 43646 | M5: 43738 | N5: 43830 | O5: 43921 | P5: 44012 | Q5: 44104 | R5: 44196 | S5: 44286 | T5: 44377 | U5: 44469 | V5: 44561 | W5: 44651 | X5: 44742 | Y5: 44834 | Z5: 44926 | AA5: 45016 | AB5: 45107 | AC5: 45199 | AD5: 45291 | AE5: 45382 | AF5: 45473 | AG5: 45565 | AH5: 45657 | AI5: 45747 | AJ5: 45838 | AK5: 45930 | AL5: 46022 | AM5: 46112 | AN5: 46203 | AO5: 46295 | AP5: 46387 | AQ5: 46477 | AR5: 46568 | AS5: 46660 | AT5: 46752 | AU5: 46843 | AV5: 46934 | AW5: 47026 | AX5: 47118 | AY5: 47208 | AZ5: 47299 | BA5: 47391 | BB5: 47483 | BC5: 47573 | BD5: 47664 | BE5: 47756 | BF5: 47848 | BG5: x | BH5: Annual Summary | BI5: 2017 | BJ5: 2018 | BK5: 2019 | BL5: 2020 | BM5: 2021 | BN5: 2022 | BO5: 2023 | BP5: 2024 | BQ5: 2025 | BR5: 2026 | BS5: 2027 | BT5: 2028 | BU5: 2029 | BV5: 2030
B7: Revenue | C7: 82425 | D7: 101128 | E7: 115953 | F7: 173346 | G7: 131359 | H7: 161192 | I7: 190197 | J7: 273184 | K7: 201911 | L7: 261249 | M7: =M86 -> 323190 | N7: =N86 -> 426420 | O7: =O86 -> 332920 | P7: =P86 -> 417765 | Q7: =Q86 -> 490470 | R7: =R86 -> 619725 | S7: =S86 -> 511720 | T7: =T86 -> 628430 | ... BF7: =BF86 -> 4424686.2 | BG7: x | BH7: Revenue | BI7: =SUMIF($C$4:$BF$4,BI$5,$C$7:$BF$7) -> 472852 | BJ7: =SUMIF($C$4:$BF$4,BJ$5,$C$7:$BF$7) -> 755932 | BK7: =SUMIF($C$4:$BF$4,BK$5,$C$7:$BF$7) -> 1212770 | BL7: =SUMIF($C$4:$BF$4,BL$5,$C$7:$BF$7) -> 1860880 | BM7: =SUMIF($C$4:$BF$4,BM$5,$C$7:$BF$7) -> 2741845 | BN7: =SUMIF($C$4:$BF$4,BN$5,$C$7:$BF$7) -> 3810272.5 | BO7: =SUMIF($C$4:$BF$4,BO$5,$C$7:$BF$7) -> 5053180 | BP7: =SUMIF($C$4:$BF$4,BP$5,$C$7:$BF$7) -> 6429247.5 | ... BV7: =SUMIF($C$4:$BF$4,BV$5,$C$7:$BF$7) -> 15327438
B8: QoQ (%) | D8: =D7/C7-1 -> 0.22690931 | E8: =E7/D7-1 -> 0.14659639 | F8: =F7/E7-1 -> 0.49496779 | G8: =G7/F7-1 -> -0.24221499 | H8: =H7/G7-1 -> 0.22711044 | I8: =I7/H7-1 -> 0.17994069 | J8: =J7/I7-1 -> 0.43632129 | K8: =K7/J7-1 -> -0.26089742 | ... BF8: =BF7/BE7-1 -> 0.10825959 | BG8: x | BH8: QoQ (%)
B9: YoY (%) | G9: =G7/C7-1 -> 0.5936791 | H9: =H7/D7-1 -> 0.59394035 | I9: =I7/E7-1 -> 0.64029391 | J9: =J7/F7-1 -> 0.57594637 | K9: =K7/G7-1 -> 0.537093 | L9: =L7/H7-1 -> 0.6207318 | M9: =M7/I7-1 -> 0.69923816 | N9: =N7/J7-1 -> 0.56092597 | ... BF9: =BF7/BB7-1 -> 0.086422106 | BG9: x | BH9: YoY (%) | BJ9: =BJ7/BI7-1 -> 0.59866512 | BK9: =BK7/BJ7-1 -> 0.60433743 | BL9: =BL7/BK7-1 -> 0.53440471 | BM9: =BM7/BL7-1 -> 0.47341312 | BN9: =BN7/BM7-1 -> 0.38967465 | BO9: =BO7/BN7-1 -> 0.32619911 | BP9: =BP7/BO7-1 -> 0.27231713 | BQ9: =BQ7/BP7-1 -> 0.22694102 | ... BV9: =BV7/BU7-1 -> 0.085882094
B10: Cost of Revenue | C10: 51542 | D10: 35991 | E10: 42457 | F10: 48674 | G10: 51653 | H10: 57974 | I10: 63649 | J10: 68308 | K10: 73694 | L10: 105415 | M10: =M7-M11 -> 114467.77 | N10: =N7-N11 -> 107956.27 | O10: =O7-O11 -> 117873.27 | P10: =P7-P11 -> 147569.02 | Q10: =Q7-Q11 -> 173015.77 | R10: =R7-R11 -> 156282.52 | S10: =S7-S11 -> 175336.07 | T10: =T7-T11 -> 215017.47 | ... BF10: =BF7-BF11 -> 884937.25 | BG10: x | BH10: Cost of Revenue | BI10: =SUMIF($C$4:$BF$4,BI$5,$C$10:$BF$10) -> 178664 | BJ10: =SUMIF($C$4:$BF$4,BJ$5,$C$10:$BF$10) -> 241584 | BK10: =SUMIF($C$4:$BF$4,BK$5,$C$10:$BF$10) -> 401533.04 | BL10: =SUMIF($C$4:$BF$4,BL$5,$C$10:$BF$10) -> 594740.58 | BM10: =SUMIF($C$4:$BF$4,BM$5,$C$10:$BF$10) -> 849710.38 | BN10: =SUMIF($C$4:$BF$4,BN$5,$C$10:$BF$10) -> 1144170.8 | BO10: =SUMIF($C$4:$BF$4,BO$5,$C$10:$BF$10) -> 1463250.1 | BP10: =SUMIF($C$4:$BF$4,BP$5,$C$10:$BF$10) -> 1800846.5 | ... BV10: =SUMIF($C$4:$BF$4,BV$5,$C$10:$BF$10) -> 4155762.6
B11: Gross Profit | C11: =C7-C10 -> 30883 | D11: =D7-D10 -> 65137 | E11: =E7-E10 -> 73496 | F11: =F7-F10 -> 124672 | G11: =G7-G10 -> 79706 | H11: =H7-H10 -> 103218 | I11: =I7-I10 -> 126548 | J11: =J7-J10 -> 204876 | ... L11: =L7-L10 -> 155834 | M11: =M7*M90-M91 -> 208722.23 | N11: =N7*N90-N91 -> 318463.73 | O11: =O7*O90-O91 -> 215046.73 | P11: =P7*P90-P91 -> 270195.98 | Q11: =Q7*Q90-Q91 -> 317454.23 | R11: =R7*R90-R91 -> 463442.48 | S11: =S7*S90-S91 -> 336383.93 | T11: =T7*T90-T91 -> 413412.53 | ... BF11: =BF7*BF90-BF91 -> 3539749 | BG11: x | BH11: Gross Profit | BI11: =SUMIF($C$4:$BF$4,BI$5,$C$11:$BF$11) -> 294188 | BJ11: =SUMIF($C$4:$BF$4,BJ$5,$C$11:$BF$11) -> 514348 | BK11: =SUMIF($C$4:$BF$4,BK$5,$C$11:$BF$11) -> 811236.96 | BL11: =SUMIF($C$4:$BF$4,BL$5,$C$11:$BF$11) -> 1266139.4 | BM11: =SUMIF($C$4:$BF$4,BM$5,$C$11:$BF$11) -> 1892134.6 | BN11: =SUMIF($C$4:$BF$4,BN$5,$C$11:$BF$11) -> 2666101.7 | BO11: =SUMIF($C$4:$BF$4,BO$5,$C$11:$BF$11) -> 3589929.9 | BP11: =SUMIF($C$4:$BF$4,BP$5,$C$11:$BF$11) -> 4628401 | ... BV11: =SUMIF($C$4:$BF$4,BV$5,$C$11:$BF$11) -> 11171675
B12: Gross Margin (%) | C12: =C11/C7 -> 0.37468001 | D12: =D11/D7 -> 0.6441045 | E12: =E11/E7 -> 0.63384302 | F12: =F11/F7 -> 0.71920898 | G12: =G11/G7 -> 0.60677989 | H12: =H11/H7 -> 0.64034195 | I12: =I11/I7 -> 0.66535224 | J12: =J11/J7 -> 0.74995607 | ... BF12: =BF11/BF7 -> 0.8 | BG12: x | BH12: Gross Margin (%) | BI12: =BI11/BI7 -> 0.62215662 | BJ12: =BJ11/BJ7 -> 0.6804157 | BK12: =BK11/BK7 -> 0.66891246 | BL12: =BL11/BL7 -> 0.68039821 | BM12: =BM11/BM7 -> 0.6900954 | BN12: =BN11/BN7 -> 0.69971419 | BO12: =BO11/BO7 -> 0.71042985 | BP12: =BP11/BP7 -> 0.71989778 | ... BV12: =BV11/BV7 -> 0.72886775
BG13: x
B14: Research & Development Exp. | C14: 48069 | D14: 51495 | E14: 53930 | F14: 54479 | G14: 60047 | H14: 61604 | I14: 63541 | J14: 66470 | K14: 76394 | L14: 801879 | M14: =M102+M129 -> 148117.14 | N14: =N102+N129 -> 141552.24 | O14: =O102+O129 -> 144837.56 | P14: =P102+P129 -> 173066 | Q14: =Q102+Q129 -> 197255.39 | R14: =R102+R129 -> 184026.7 | S14: =S102+S129 -> 194007.07 | T14: =T102+T129 -> 230483.85 | ... BF14: =BF102+BF129 -> 758364.68 | BG14: x | BH14: Research & Development Exp. | BI14: =SUMIF($C$4:$BF$4,BI$5,$C14:$BF14) -> 207973 | BJ14: =SUMIF($C$4:$BF$4,BJ$5,$C14:$BF14) -> 251662 | BK14: =SUMIF($C$4:$BF$4,BK$5,$C14:$BF14) -> 1167942.4 | BL14: =SUMIF($C$4:$BF$4,BL$5,$C14:$BF14) -> 699185.65 | BM14: =SUMIF($C$4:$BF$4,BM$5,$C14:$BF14) -> 922319.67 | BN14: =SUMIF($C$4:$BF$4,BN$5,$C14:$BF14) -> 1193069.8 | BO14: =SUMIF($C$4:$BF$4,BO$5,$C14:$BF14) -> 1353415.9 | BP14: =SUMIF($C$4:$BF$4,BP$5,$C14:$BF14) -> 1659913.7 | ... BV14: =SUMIF($C$4:$BF$4,BV$5,$C14:$BF14) -> 3451442.4
B15: R&D Exp. Ratio (%) | C15: =C14/C7 -> 0.58318471 | D15: =D14/D7 -> 0.50920615 | E15: =E14/E7 -> 0.46510224 | F15: =F14/F7 -> 0.31427896 | G15: =G14/G7 -> 0.45712132 | H15: =H14/H7 -> 0.38217778 | I15: =I14/I7 -> 0.33407993 | J15: =J14/J7 -> 0.24331586 | ... BF15: =BF14/BF7 -> 0.171394 | BG15: x | BH15: R&D Exp. Ratio (%) | BI15: =BI14/BI7 -> 0.43982684 | BJ15: =BJ14/BJ7 -> 0.33291619 | BK15: =BK14/BK7 -> 0.96303699 | BL15: =BL14/BL7 -> 0.3757285 | BM15: =BM14/BM7 -> 0.33638651 | BN15: =BN14/BN7 -> 0.31311928 | BO15: =BO14/BO7 -> 0.2678345 | BP15: =BP14/BP7 -> 0.25818164 | ... BV15: =BV14/BV7 -> 0.22518065
B16: Sales & Marketing Exp. | C16: 31554 | D16: 37388 | E16: 41970 | F16: 51602 | G16: 55774 | H16: 65148 | I16: 66722 | J16: 72285 | K16: 72444 | L16: 296919 | M16: =M104+M130 -> 122873.29 | N16: =N104+N130 -> 137690.19 | O16: =O104+O130 -> 126280.49 | P16: =P104+P130 -> 155991.09 | Q16: =Q104+Q130 -> 181450.56 | R16: =R104+R130 -> 195710.69 | S16: =S104+S130 -> 181212.14 | T16: =T104+T130 -> 220329.54 | ... BF16: =BF104+BF130 -> 973917.69 | BG16: x | BH16: Sales & Marketing Exp. | BI16: =SUMIF($C$4:$BF$4,BI$5,$C16:$BF16) -> 162514 | BJ16: =SUMIF($C$4:$BF$4,BJ$5,$C16:$BF16) -> 259929 | BK16: =SUMIF($C$4:$BF$4,BK$5,$C16:$BF16) -> 629926.48 | BL16: =SUMIF($C$4:$BF$4,BL$5,$C16:$BF16) -> 659432.83 | BM16: =SUMIF($C$4:$BF$4,BM$5,$C16:$BF16) -> 913795.27 | BN16: =SUMIF($C$4:$BF$4,BN$5,$C16:$BF16) -> 1199356 | BO16: =SUMIF($C$4:$BF$4,BO$5,$C16:$BF16) -> 1490346.9 | BP16: =SUMIF($C$4:$BF$4,BP$5,$C16:$BF16) -> 1833580.5 | ... BV16: =SUMIF($C$4:$BF$4,BV$5,$C16:$BF16) -> 3919132.4
B17: S&M Exp. Ratio (%) | C17: =C16/C7 -> 0.38282075 | D17: =D16/D7 -> 0.36970967 | E17: =E16/E7 -> 0.361957 | F17: =F16/F7 -> 0.29768209 | G17: =G16/G7 -> 0.42459215 | H17: =H16/H7 -> 0.40416398 | I17: =I16/I7 -> 0.35080469 | J17: =J16/J7 -> 0.26460188 | ... BF17: =BF16/BF7 -> 0.22011 | BG17: x | BH17: S&M Exp. Ratio (%) | BI17: =BI16/BI7 -> 0.34368893 | BJ17: =BJ16/BJ7 -> 0.34385236 | BK17: =BK16/BK7 -> 0.51941133 | BL17: =BL16/BL7 -> 0.35436612 | BM17: =BM16/BM7 -> 0.33327751 | BN17: =BN16/BN7 -> 0.31476908 | BO17: =BO16/BO7 -> 0.29493247 | BP17: =BP16/BP7 -> 0.28519363 | ... BV17: =BV16/BV7 -> 0.25569391
B18: General & Administrative Exp. | C18: 14260 | D18: 14642 | E18: 15653 | F18: 17080 | G18: 18867 | H18: 17834 | I18: 18716 | J18: 22061 | K18: 24205 | L18: 224179 | M18: =M106+M131 -> 41676.742 | N18: =N106+N131 -> 47741.6 | O18: =O106+O131 -> 45983.244 | P18: =P106+P131 -> 51143.699 | Q18: =Q106+Q131 -> 58421.47 | R18: =R106+R131 -> 65156.448 | S18: =S106+S131 -> 64646.448 | T18: =T106+T131 -> 70973.149 | ... BF18: =BF106+BF131 -> 310037.77 | BG18: x | BH18: General & Administrative Exp. | BI18: =SUMIF($C$4:$BF$4,BI$5,$C18:$BF18) -> 61635 | BJ18: =SUMIF($C$4:$BF$4,BJ$5,$C18:$BF18) -> 77478 | BK18: =SUMIF($C$4:$BF$4,BK$5,$C18:$BF18) -> 337802.34 | BL18: =SUMIF($C$4:$BF$4,BL$5,$C18:$BF18) -> 220704.86 | BM18: =SUMIF($C$4:$BF$4,BM$5,$C18:$BF18) -> 302592.53 | BN18: =SUMIF($C$4:$BF$4,BN$5,$C18:$BF18) -> 398946.13 | BO18: =SUMIF($C$4:$BF$4,BO$5,$C18:$BF18) -> 470117.22 | BP18: =SUMIF($C$4:$BF$4,BP$5,$C18:$BF18) -> 585876.56 | ... BV18: =SUMIF($C$4:$BF$4,BV$5,$C18:$BF18) -> 1215370
B19: G&A Exp. Ratio | C19: =C18/C7 -> 0.17300576 | D19: =D18/D7 -> 0.1447868 | E19: =E18/E7 -> 0.13499435 | F19: =F18/F7 -> 0.098531261 | G19: =G18/G7 -> 0.14362929 | H19: =H18/H7 -> 0.11063825 | I19: =I18/I7 -> 0.098403235 | J19: =J18/J7 -> 0.080755095 | ... BF19: =BF18/BF7 -> 0.07007 | BG19: x | BH19: G&A Exp. Ratio | BI19: =BI18/BI7 -> 0.13034734 | BJ19: =BJ18/BJ7 -> 0.10249335 | BK19: =BK18/BK7 -> 0.27853784 | BL19: =BL18/BL7 -> 0.11860241 | BM19: =BM18/BM7 -> 0.11036092 | BN19: =BN18/BN7 -> 0.10470278 | BO19: =BO18/BO7 -> 0.093033935 | BP19: =BP18/BP7 -> 0.09112677 | ... BV19: =BV18/BV7 -> 0.079293751
B20: Operating P&L | C20: -63000 | D20: -38388 | E20: -38057 | F20: 1511 | G20: -54982 | H20: -41368 | I20: -22431 | J20: 44060 | K20: -44826 | L20: -1167143 | M20: =M11-M14-M16-M18 -> -103944.93 | N20: =N11-N14-N16-N18 -> -8520.3018 | O20: =O11-O14-O16-O18 -> -102054.56 | P20: =P11-P14-P16-P18 -> -110004.81 | Q20: =Q11-Q14-Q16-Q18 -> -119673.19 | R20: =R11-R14-R16-R18 -> 18548.647 | S20: =S11-S14-S16-S18 -> -103481.73 | T20: =T11-T14-T16-T18 -> -108374.01 | ... BF20: =BF11-BF14-BF16-BF18 -> 1497428.9 | BG20: x | BH20: Operating P&L | BI20: =SUMIF($C$4:$BF$4,BI$5,$C20:$BF20) -> -137934 | BJ20: =SUMIF($C$4:$BF$4,BJ$5,$C20:$BF20) -> -74721 | BK20: =SUMIF($C$4:$BF$4,BK$5,$C20:$BF20) -> -1324434.2 | BL20: =SUMIF($C$4:$BF$4,BL$5,$C20:$BF20) -> -313183.92 | BM20: =SUMIF($C$4:$BF$4,BM$5,$C20:$BF20) -> -246572.84 | BN20: =SUMIF($C$4:$BF$4,BN$5,$C20:$BF20) -> -125270.13 | BO20: =SUMIF($C$4:$BF$4,BO$5,$C20:$BF20) -> 276049.88 | BP20: =SUMIF($C$4:$BF$4,BP$5,$C20:$BF20) -> 549030.32 | ... BV20: =SUMIF($C$4:$BF$4,BV$5,$C20:$BF20) -> 2585730.1
B21: Operating Margin (%) | C21: =C20/C7 -> -0.76433121 | D21: =D20/D7 -> -0.37959813 | E21: =E20/E7 -> -0.32821057 | F21: =F20/F7 -> 0.0087166707 | G21: =G20/G7 -> -0.41856287 | H21: =H20/H7 -> -0.25663805 | I21: =I20/I7 -> -0.11793561 | J21: =J20/J7 -> 0.16128324 | ... BF21: =BF20/BF7 -> 0.338426 | BG21: x | BH21: Operating Margin (%) | BI21: =BI20/BI7 -> -0.2917065 | BJ21: =BJ20/BJ7 -> -0.098846193 | BK21: =BK20/BK7 -> -1.0920737 | BL21: =BL20/BL7 -> -0.16829882 | BM21: =BM20/BM7 -> -0.089929533 | BN21: =BN20/BN7 -> -0.032876947 | BO21: =BO20/BO7 -> 0.054628943 | BP21: =BP20/BP7 -> 0.085395736 | ... BV21: =BV20/BV7 -> 0.16869944
B22: + D&A Exp. | C22: 4159 | D22: 4138 | E22: 3920 | F22: 3918 | G22: 4787 | H22: 5511 | I22: 5117 | J22: 5444 | K22: 5696 | L22: 6507 | M22: =M7*M93 -> 8079.75 | N22: =N7*N93 -> 10660.5 | O22: =O7*O93 -> 8323 | P22: =P7*P93 -> 10444.125 | Q22: =Q7*Q93 -> 12261.75 | R22: =R7*R93 -> 15493.125 | S22: =S7*S93 -> 12793 | T22: =T7*T93 -> 15710.75 | ... BF22: =BF7*BF93 -> 110617.16 | BG22: x | BH22: + D&A Exp. | BI22: =SUMIF($C$4:$BF$4,BI$5,$C22:$BF22) -> 16135 | BJ22: =SUMIF($C$4:$BF$4,BJ$5,$C22:$BF22) -> 20859 | BK22: =SUMIF($C$4:$BF$4,BK$5,$C22:$BF22) -> 30943.25 | BL22: =SUMIF($C$4:$BF$4,BL$5,$C22:$BF22) -> 46522 | BM22: =SUMIF($C$4:$BF$4,BM$5,$C22:$BF22) -> 68546.125 | BN22: =SUMIF($C$4:$BF$4,BN$5,$C22:$BF22) -> 95256.812 | BO22: =SUMIF($C$4:$BF$4,BO$5,$C22:$BF22) -> 126329.5 | BP22: =SUMIF($C$4:$BF$4,BP$5,$C22:$BF22) -> 160731.19 | ... BV22: =SUMIF($C$4:$BF$4,BV$5,$C22:$BF22) -> 383185.94
B23: = EBITDA | C23: =C20+C22 -> -58841 | D23: =D20+D22 -> -34250 | E23: =E20+E22 -> -34137 | F23: =F20+F22 -> 5429 | G23: =G20+G22 -> -50195 | H23: =H20+H22 -> -35857 | I23: =I20+I22 -> -17314 | J23: =J20+J22 -> 49504 | ... BF23: =BF20+BF22 -> 1608046 | BG23: x | BH23: = EBITDA | BI23: =SUMIF($C$4:$BF$4,BI$5,$C23:$BF23) -> -121799 | BJ23: =SUMIF($C$4:$BF$4,BJ$5,$C23:$BF23) -> -53862 | BK23: =SUMIF($C$4:$BF$4,BK$5,$C23:$BF23) -> -1293491 | BL23: =SUMIF($C$4:$BF$4,BL$5,$C23:$BF23) -> -266661.92 | BM23: =SUMIF($C$4:$BF$4,BM$5,$C23:$BF23) -> -178026.72 | BN23: =SUMIF($C$4:$BF$4,BN$5,$C23:$BF23) -> -30013.313 | BO23: =SUMIF($C$4:$BF$4,BO$5,$C23:$BF23) -> 402379.38 | BP23: =SUMIF($C$4:$BF$4,BP$5,$C23:$BF23) -> 709761.51 | ... BV23: =SUMIF($C$4:$BF$4,BV$5,$C23:$BF23) -> 2968916
B24: EBITDA Margin (%) | C24: =C23/C7 -> -0.71387322 | D24: =D23/D7 -> -0.33867969 | E24: =E23/E7 -> -0.29440377 | F24: =F23/F7 -> 0.031318865 | G24: =G23/G7 -> -0.38212075 | H24: =H23/H7 -> -0.222449 | I24: =I23/I7 -> -0.09103193 | J24: =J23/J7 -> 0.1812112 | ... BF24: =BF23/BF7 -> 0.363426 | BG24: x | BH24: EBITDA Margin (%) | BI24: =BI23/BI7 -> -0.25758377 | BJ24: =BJ23/BJ7 -> -0.071252441 | BK24: =BK23/BK7 -> -1.0665592 | BL24: =BL23/BL7 -> -0.14329882 | BM24: =BM23/BM7 -> -0.064929533 | BN24: =BN23/BN7 -> -0.0078769467 | BO24: =BO23/BO7 -> 0.079628943 | BP24: =BP23/BP7 -> 0.11039574 | ... BV24: =BV23/BV7 -> 0.19369944
B25: + SBC | C25: 7575 | D25: 7294 | E25: 7273 | F25: 6662 | G25: 4834 | H25: 3959 | I25: 3888 | J25: 2178 | K25: 694 | L25: 1134599 | M25: =M132 -> 55489.056 | N25: =N132 -> 55447.823 | O25: =O132 -> 55469.068 | P25: =P132 -> 55724.601 | Q25: =Q132 -> 55946.424 | R25: =R132 -> 55849.339 | S25: =S132 -> 55926.568 | T25: =T132 -> 56257.05 | ... BF25: =BF132 -> 7141.4436 | BG25: x | BH25: + SBC | BI25: =SUMIF($C$4:$BF$4,BI$5,$C25:$BF25) -> 28804 | BJ25: =SUMIF($C$4:$BF$4,BJ$5,$C25:$BF25) -> 14859 | BK25: =SUMIF($C$4:$BF$4,BK$5,$C25:$BF25) -> 1246229.9 | BL25: =SUMIF($C$4:$BF$4,BL$5,$C25:$BF25) -> 222989.43 | BM25: =SUMIF($C$4:$BF$4,BM$5,$C25:$BF25) -> 225064.17 | BN25: =SUMIF($C$4:$BF$4,BN$5,$C25:$BF25) -> 227564.12 | BO25: =SUMIF($C$4:$BF$4,BO$5,$C25:$BF25) -> 12514.846 | BP25: =SUMIF($C$4:$BF$4,BP$5,$C25:$BF25) -> 15362.38 | ... BV25: =SUMIF($C$4:$BF$4,BV$5,$C25:$BF25) -> 32075.535
B26: = Adjusted EBITDA | C26: -51266 | D26: -26956 | E26: -26864 | F26: 12091 | G26: -45361 | H26: -31898 | I26: -13426 | J26: 51682 | K26: -38436 | L26: -26037 | M26: =M25+M20+M22 -> -40376.127 | N26: =N25+N20+N22 -> 57588.021 | O26: =O25+O20+O22 -> -38262.496 | P26: =P25+P20+P22 -> -43836.081 | Q26: =Q25+Q20+Q22 -> -51465.017 | R26: =R25+R20+R22 -> 89891.111 | S26: =S25+S20+S22 -> -34762.163 | T26: =T25+T20+T22 -> -36406.207 | ... BF26: =BF25+BF20+BF22 -> 1615187.5 | BG26: x | BH26: = Adjusted EBITDA | BI26: =SUMIF($C$4:$BF$4,BI$5,$C26:$BF26) -> -92995 | BJ26: =SUMIF($C$4:$BF$4,BJ$5,$C26:$BF26) -> -39003 | BK26: =SUMIF($C$4:$BF$4,BK$5,$C26:$BF26) -> -47261.106 | BL26: =SUMIF($C$4:$BF$4,BL$5,$C26:$BF26) -> -43672.483 | BM26: =SUMIF($C$4:$BF$4,BM$5,$C26:$BF26) -> 47037.451 | BN26: =SUMIF($C$4:$BF$4,BN$5,$C26:$BF26) -> 197550.81 | BO26: =SUMIF($C$4:$BF$4,BO$5,$C26:$BF26) -> 414894.23 | BP26: =SUMIF($C$4:$BF$4,BP$5,$C26:$BF26) -> 725123.89 | ... BV26: =SUMIF($C$4:$BF$4,BV$5,$C26:$BF26) -> 3000991.6
B27: Adjusted EBITDA Margin (%) | C27: =C26/C7 -> -0.62197149 | D27: =D26/D7 -> -0.26655328 | E27: =E26/E7 -> -0.23168008 | F27: =F26/F7 -> 0.069750672 | G27: =G26/G7 -> -0.34532084 | H27: =H26/H7 -> -0.19788823 | I27: =I26/I7 -> -0.070589967 | J27: =J26/J7 -> 0.18918385 | ... BF27: =BF26/BF7 -> 0.36504 | BG27: x | BH27: Adjusted EBITDA Margin (%) | BI27: =BI26/BI7 -> -0.1966683 | BJ27: =BJ26/BJ7 -> -0.051595911 | BK27: =BK26/BK7 -> -0.038969554 | BL27: =BL26/BL7 -> -0.023468726 | BM27: =BM26/BM7 -> 0.017155401 | BN27: =BN26/BN7 -> 0.051846897 | BO27: =BO26/BO7 -> 0.082105571 | BP27: =BP26/BP7 -> 0.11278519 | ... BV27: =BV26/BV7 -> 0.19579213
B28: QoQ Percentage Point Change | D28: =D27-C27 -> 0.35541821 | E28: =E27-D27 -> 0.034873202 | F28: =F27-E27 -> 0.30143075 | G28: =G27-F27 -> -0.41507151 | H28: =H27-G27 -> 0.14743261 | I28: =I27-H27 -> 0.12729827 | J28: =J27-I27 -> 0.25977381 | K28: =K27-J27 -> -0.37954495 | ... BF28: =BF27-BE27 -> 0.23498 | BG28: x | BH28: QoQ Percentage Point Change
B29: YoY Percentage Point Change | G29: =G27-C27 -> 0.27665065 | H29: =H27-D27 -> 0.068665046 | I29: =I27-E27 -> 0.16109011 | J29: =J27-F27 -> 0.11943317 | K29: =K27-G27 -> 0.15495974 | L29: =L27-H27 -> 0.098224693 | M29: =M27-I27 -> -0.054340033 | N29: =N27-J27 -> -0.054133847 | ... BF29: =BF27-BB27 -> 0.012 | BG29: x | BH29: YoY Percentage Point Change | BJ29: =BJ27-BI27 -> 0.14507239 | BK29: =BK27-BJ27 -> 0.012626357 | BL29: =BL27-BK27 -> 0.015500828 | BM29: =BM27-BL27 -> 0.040624127 | BN29: =BN27-BM27 -> 0.034691496 | BO29: =BO27-BN27 -> 0.030258674 | BP29: =BP27-BO27 -> 0.030679617 | BQ29: =BQ27-BP27 -> 0.024625828 | ... BV29: =BV27-BU27 -> 0.0120382
B30: Int. Income | C30: 1685 | D30: 1824 | E30: 2338 | F30: 2466 | G30: 2638 | H30: 3187 | I30: 3547 | J30: 3780 | K30: 4059 | L30: 8127 | M30: =M98 -> 8000 | N30: =N98 -> 8000 | O30: =O98 -> 8000 | P30: =P98 -> 8000 | Q30: =Q98 -> 8000 | R30: =R98 -> 8000 | S30: =S98 -> 8000 | T30: =T98 -> 8000 | ... BF30: =BF98 -> 8000 | BG30: x | BH30: Int. Income | BI30: =SUMIF($C$4:$BF$4,BI$5,$C30:$BF30) -> 8313 | BJ30: =SUMIF($C$4:$BF$4,BJ$5,$C30:$BF30) -> 13152 | BK30: =SUMIF($C$4:$BF$4,BK$5,$C30:$BF30) -> 28186 | BL30: =SUMIF($C$4:$BF$4,BL$5,$C30:$BF30) -> 32000 | BM30: =SUMIF($C$4:$BF$4,BM$5,$C30:$BF30) -> 32000 | BN30: =SUMIF($C$4:$BF$4,BN$5,$C30:$BF30) -> 32000 | BO30: =SUMIF($C$4:$BF$4,BO$5,$C30:$BF30) -> 32000 | BP30: =SUMIF($C$4:$BF$4,BP$5,$C30:$BF30) -> 32000 | ... BV30: =SUMIF($C$4:$BF$4,BV$5,$C30:$BF30) -> 32000
B31: Int. Exp. & Other Income / Exp., net | C31: 168 | D31: 39 | E31: 94 | F31: -413 | G31: -242 | H31: -214 | I31: 82 | J31: -621 | K31: -500 | L31: -448 | M31: =M99 -> -500 | N31: =N99 -> -500 | O31: =O99 -> -500 | P31: =P99 -> -500 | Q31: =Q99 -> -500 | R31: =R99 -> -500 | S31: =S99 -> -500 | T31: =T99 -> -500 | ... BF31: =BF99 -> -500 | BG31: x | BH31: Int. Exp. & Other Income / Exp., net | BI31: =SUMIF($C$4:$BF$4,BI$5,$C31:$BF31) -> -112 | BJ31: =SUMIF($C$4:$BF$4,BJ$5,$C31:$BF31) -> -995 | BK31: =SUMIF($C$4:$BF$4,BK$5,$C31:$BF31) -> -1948 | BL31: =SUMIF($C$4:$BF$4,BL$5,$C31:$BF31) -> -2000 | BM31: =SUMIF($C$4:$BF$4,BM$5,$C31:$BF31) -> -2000 | BN31: =SUMIF($C$4:$BF$4,BN$5,$C31:$BF31) -> -2000 | BO31: =SUMIF($C$4:$BF$4,BO$5,$C31:$BF31) -> -2000 | BP31: =SUMIF($C$4:$BF$4,BP$5,$C31:$BF31) -> -2000 | ... BV31: =SUMIF($C$4:$BF$4,BV$5,$C31:$BF31) -> -2000
B32: Income / Loss before Income Taxes | C32: -61147 | D32: -36525 | E32: -35625 | F32: 3564 | G32: -52586 | H32: -38395 | I32: -18802 | J32: 47219 | K32: -41267 | L32: -1159464 | M32: =M20+M30+M31 -> -96444.933 | N32: =N20+N30+N31 -> -1020.3018 | O32: =O26+O30+O31 -> -30762.496 | P32: =P26+P30+P31 -> -36336.081 | Q32: =Q26+Q30+Q31 -> -43965.017 | R32: =R26+R30+R31 -> 97391.111 | S32: =S26+S30+S31 -> -27262.163 | T32: =T26+T30+T31 -> -28906.207 | U32: =U26+U30+U31 -> -34354.422 | V32: =V26+V30+V31 -> 167560.24 | ... BF32: =BF26+BF30+BF31 -> 1622687.5 | BG32: x | BH32: Income / Loss before Income Taxes | BI32: =SUMIF($C$4:$BF$4,BI$5,$C32:$BF32) -> -129733 | BJ32: =SUMIF($C$4:$BF$4,BJ$5,$C32:$BF32) -> -62564 | BK32: =SUMIF($C$4:$BF$4,BK$5,$C32:$BF32) -> -1298196.2 | BL32: =SUMIF($C$4:$BF$4,BL$5,$C32:$BF32) -> -13672.483 | BM32: =SUMIF($C$4:$BF$4,BM$5,$C32:$BF32) -> 77037.451 | BN32: =SUMIF($C$4:$BF$4,BN$5,$C32:$BF32) -> 227550.81 | BO32: =SUMIF($C$4:$BF$4,BO$5,$C32:$BF32) -> 444894.23 | BP32: =SUMIF($C$4:$BF$4,BP$5,$C32:$BF32) -> 755123.89 | ... BV32: =SUMIF($C$4:$BF$4,BV$5,$C32:$BF32) -> 3030991.6
B33: Income Taxes | C33: 53 | D33: 78 | E33: 20 | F33: 160 | G33: 123 | H33: 12 | I33: 72 | J33: 203 | K33: 153 | L33: 37 | M33: =M68-M69 -> 0 | N33: =N68-N69 -> 0 | O33: =O68-O69 -> 0 | P33: =P68-P69 -> 0 | Q33: =Q68-Q69 -> 0 | R33: =R68-R69 -> 4637.1618 | S33: =S68-S69 -> 0 | T33: =T68-T69 -> 0 | ... BF33: =BF68-BF69 -> 374357.22 | BG33: x | BH33: Income Taxes | BI33: =SUMIF($C$4:$BF$4,BI$5,$C33:$BF33) -> 311 | BJ33: =SUMIF($C$4:$BF$4,BJ$5,$C33:$BF33) -> 410 | BK33: =SUMIF($C$4:$BF$4,BK$5,$C33:$BF33) -> 190 | BL33: =SUMIF($C$4:$BF$4,BL$5,$C33:$BF33) -> 4637.1618 | BM33: =SUMIF($C$4:$BF$4,BM$5,$C33:$BF33) -> 20431.668 | BN33: =SUMIF($C$4:$BF$4,BN$5,$C33:$BF33) -> 43319.726 | BO33: =SUMIF($C$4:$BF$4,BO$5,$C33:$BF33) -> 86134.403 | BP33: =SUMIF($C$4:$BF$4,BP$5,$C33:$BF33) -> 137257.58 | ... BV33: =SUMIF($C$4:$BF$4,BV$5,$C33:$BF33) -> 646432.53
B34: Net Income / Loss | C34: -61200 | D34: -36603 | E34: -35645 | F34: 3404 | G34: -52709 | H34: -38407 | I34: -18874 | J34: 47016 | K34: -41420 | L34: -1159501 | M34: =M32-M33 -> -96444.933 | N34: =N32-N33 -> -1020.3018 | O34: =O32-O33 -> -30762.496 | P34: =P32-P33 -> -36336.081 | Q34: =Q32-Q33 -> -43965.017 | R34: =R32-R33 -> 92753.949 | S34: =S32-S33 -> -27262.163 | T34: =T32-T33 -> -28906.207 | ... BF34: =BF32-BF33 -> 1248330.3 | BG34: x | BH34: Net Income / Loss | BI34: =SUMIF($C$4:$BF$4,BI$5,$C34:$BF34) -> -130044 | BJ34: =SUMIF($C$4:$BF$4,BJ$5,$C34:$BF34) -> -62974 | BK34: =SUMIF($C$4:$BF$4,BK$5,$C34:$BF34) -> -1298386.2 | BL34: =SUMIF($C$4:$BF$4,BL$5,$C34:$BF34) -> -18309.645 | BM34: =SUMIF($C$4:$BF$4,BM$5,$C34:$BF34) -> 56605.783 | BN34: =SUMIF($C$4:$BF$4,BN$5,$C34:$BF34) -> 184231.08 | BO34: =SUMIF($C$4:$BF$4,BO$5,$C34:$BF34) -> 358759.83 | BP34: =SUMIF($C$4:$BF$4,BP$5,$C34:$BF34) -> 617866.31 | ... BV34: =SUMIF($C$4:$BF$4,BV$5,$C34:$BF34) -> 2384559.1
BG35: x
B36: < Metrics > | BG36: x | BH36: < Metrics >
B37: User Base | C37: =IF(MONTH(C5)=12,C4,0) -> 0 | D37: =IF(MONTH(D5)=12,D4,0) -> 0 | E37: =IF(MONTH(E5)=12,E4,0) -> 0 | F37: =IF(MONTH(F5)=12,F4,0) -> 2017 | G37: =IF(MONTH(G5)=12,G4,0) -> 0 | H37: =IF(MONTH(H5)=12,H4,0) -> 0 | I37: =IF(MONTH(I5)=12,I4,0) -> 0 | J37: =IF(MONTH(J5)=12,J4,0) -> 2018 | ... BF37: =IF(MONTH(BF5)=12,BF4,0) -> 2030 | BG37: x | BH37: User Base
B38: US MAU (M) | C38: 71 | D38: 71 | E38: 74 | F38: 76 | G38: 80 | H38: 75 | I38: 80 | J38: 82 | K38: 85 | L38: 85 | M38: =L38+M39 -> 85.5 | N38: =M38+N39 -> 86 | O38: =N38+O39 -> 86.5 | P38: =O38+P39 -> 86.5 | Q38: =P38+Q39 -> 87 | R38: =Q38+R39 -> 87.5 | S38: =R38+S39 -> 88 | T38: =S38+T39 -> 88 | ... BF38: =BE38+BF39 -> 102.5 | BG38: x | BH38: US MAU (M) | BI38: =SUMIF($C$37:$BF$37,BI$5,$C38:$BF38) -> 76 | BJ38: =SUMIF($C$37:$BF$37,BJ$5,$C38:$BF38) -> 82 | BK38: =SUMIF($C$37:$BF$37,BK$5,$C38:$BF38) -> 86 | BL38: =SUMIF($C$37:$BF$37,BL$5,$C38:$BF38) -> 87.5 | BM38: =SUMIF($C$37:$BF$37,BM$5,$C38:$BF38) -> 89 | BN38: =SUMIF($C$37:$BF$37,BN$5,$C38:$BF38) -> 90.5 | BO38: =SUMIF($C$37:$BF$37,BO$5,$C38:$BF38) -> 92 | BP38: =SUMIF($C$37:$BF$37,BP$5,$C38:$BF38) -> 93.5 | ... BV38: =SUMIF($C$37:$BF$37,BV$5,$C38:$BF38) -> 102.5
B39: Net Addition | C39: 1 | D39: 0 | E39: 3 | F39: 2 | G39: 4 | H39: -5 | I39: 5 | J39: 2 | K39: 3 | L39: 0 | M39: 0.5 | N39: 0.5 | O39: 0.5 | P39: 0 | Q39: 0.5 | R39: 0.5 | S39: 0.5 | T39: 0 | U39: 0.5 | V39: 0.5 | W39: 0.5 | X39: 0 | Y39: 0.5 | Z39: 0.5 | AA39: 0.5 | AB39: 0 | AC39: 0.5 | AD39: 0.5 | AE39: 0.5 | AF39: 0 | AG39: 0.5 | AH39: 0.5 | AI39: 0.5 | AJ39: 0 | AK39: 0.5 | AL39: 0.5 | AM39: 0.5 | AN39: 0 | AO39: 0.5 | AP39: 0.5 | AQ39: 0.5 | AR39: 0 | AS39: 0.5 | AT39: 0.5 | AU39: 0.5 | AV39: 0 | AW39: 0.5 | AX39: 0.5 | AY39: 0.5 | AZ39: 0 | BA39: 0.5 | BB39: 0.5 | BC39: 0.5 | BD39: 0 | BE39: 0.5 | BF39: 0.5 | BG39: x | BH39: Net Addition | BI39: =SUMIF($C$4:$BF$4,BI$5,$C39:$BF39) -> 6 | BJ39: =SUMIF($C$4:$BF$4,BJ$5,$C39:$BF39) -> 6 | BK39: =SUMIF($C$4:$BF$4,BK$5,$C39:$BF39) -> 4 | BL39: =SUMIF($C$4:$BF$4,BL$5,$C39:$BF39) -> 1.5 | BM39: =SUMIF($C$4:$BF$4,BM$5,$C39:$BF39) -> 1.5 | BN39: =SUMIF($C$4:$BF$4,BN$5,$C39:$BF39) -> 1.5 | BO39: =SUMIF($C$4:$BF$4,BO$5,$C39:$BF39) -> 1.5 | BP39: =SUMIF($C$4:$BF$4,BP$5,$C39:$BF39) -> 1.5 | ... BV39: =SUMIF($C$4:$BF$4,BV$5,$C39:$BF39) -> 1.5
B40: Int'l MAU (M) | C40: 104 | D40: 114 | E40: 129 | F40: 139 | G40: 160 | H40: 156 | I40: 171 | J40: 184 | K40: 206 | L40: 215 | M40: =L40+M41 -> 228 | N40: =M40+N41 -> 241 | O40: =N40+O41 -> 259 | P40: =O40+P41 -> 269 | Q40: =P40+Q41 -> 282 | R40: =Q40+R41 -> 295 | S40: =R40+S41 -> 311 | T40: =S40+T41 -> 319 | ... BF40: =BE40+BF41 -> 537.75 | BG40: x | BH40: Int'l MAU (M) | BI40: =SUMIF($C$37:$BF$37,BI$5,$C40:$BF40) -> 139 | BJ40: =SUMIF($C$37:$BF$37,BJ$5,$C40:$BF40) -> 184 | BK40: =SUMIF($C$37:$BF$37,BK$5,$C40:$BF40) -> 241 | BL40: =SUMIF($C$37:$BF$37,BL$5,$C40:$BF40) -> 295 | BM40: =SUMIF($C$37:$BF$37,BM$5,$C40:$BF40) -> 341 | BN40: =SUMIF($C$37:$BF$37,BN$5,$C40:$BF40) -> 378 | BO40: =SUMIF($C$37:$BF$37,BO$5,$C40:$BF40) -> 407.5 | BP40: =SUMIF($C$37:$BF$37,BP$5,$C40:$BF40) -> 430.5 | ... BV40: =SUMIF($C$37:$BF$37,BV$5,$C40:$BF40) -> 537.75
B41: Net Addition | C41: 14 | D41: 10 | E41: 15 | F41: 10 | G41: 21 | H41: -4 | I41: 15 | J41: 13 | K41: 22 | L41: 9 | M41: 13 | N41: 13 | O41: 18 | P41: 10 | Q41: 13 | R41: 13 | S41: =O41-2 -> 16 | T41: =P41-2 -> 8 | U41: =Q41-2 -> 11 | V41: =R41-2 -> 11 | W41: =S41-3 -> 13 | X41: =T41-2 -> 6 | Y41: =U41-2 -> 9 | Z41: =V41-2 -> 9 | AA41: =W41-3 -> 10 | AB41: =X41-1.5 -> 4.5 | AC41: =Y41-1.5 -> 7.5 | AD41: =Z41-1.5 -> 7.5 | AE41: =AA41-2 -> 8 | AF41: =AB41-1.5 -> 3 | AG41: =AC41-1.5 -> 6 | AH41: =AD41-1.5 -> 6 | AI41: =AE41-1 -> 7 | AJ41: =AF41-0.5 -> 2.5 | AK41: =AG41-0.5 -> 5.5 | AL41: =AH41-0.5 -> 5.5 | AM41: 6 | AN41: 2.25 | AO41: 5.25 | AP41: 5.25 | AQ41: 5 | AR41: 2 | AS41: 5 | AT41: 5 | AU41: 5 | AV41: 2 | AW41: 5 | AX41: 5 | AY41: 5 | AZ41: 2 | BA41: 5 | BB41: 5 | BC41: 5 | BD41: 2 | BE41: 5 | BF41: 5 | BG41: x | BH41: Net Addition | BI41: =SUMIF($C$4:$BF$4,BI$5,$C41:$BF41) -> 49 | BJ41: =SUMIF($C$4:$BF$4,BJ$5,$C41:$BF41) -> 45 | BK41: =SUMIF($C$4:$BF$4,BK$5,$C41:$BF41) -> 57 | BL41: =SUMIF($C$4:$BF$4,BL$5,$C41:$BF41) -> 54 | BM41: =SUMIF($C$4:$BF$4,BM$5,$C41:$BF41) -> 46 | BN41: =SUMIF($C$4:$BF$4,BN$5,$C41:$BF41) -> 37 | BO41: =SUMIF($C$4:$BF$4,BO$5,$C41:$BF41) -> 29.5 | BP41: =SUMIF($C$4:$BF$4,BP$5,$C41:$BF41) -> 23 | ... BV41: =SUMIF($C$4:$BF$4,BV$5,$C41:$BF41) -> 17
B42: Global MAU (M) | C42: 175 | D42: 185 | E42: 203 | F42: 215 | G42: 240 | H42: 231 | I42: 251 | J42: 266 | K42: 291 | L42: 300 | M42: =M38+M40 -> 313.5 | N42: =N38+N40 -> 327 | O42: =O38+O40 -> 345.5 | P42: =P38+P40 -> 355.5 | Q42: =Q38+Q40 -> 369 | R42: =R38+R40 -> 382.5 | S42: =S38+S40 -> 399 | T42: =T38+T40 -> 407 | ... BF42: =BF38+BF40 -> 640.25 | BG42: x | BH42: Global MAU (M) | BI42: =SUMIF($C$37:$BF$37,BI$5,$C42:$BF42) -> 215 | BJ42: =SUMIF($C$37:$BF$37,BJ$5,$C42:$BF42) -> 266 | BK42: =SUMIF($C$37:$BF$37,BK$5,$C42:$BF42) -> 327 | BL42: =SUMIF($C$37:$BF$37,BL$5,$C42:$BF42) -> 382.5 | BM42: =SUMIF($C$37:$BF$37,BM$5,$C42:$BF42) -> 430 | BN42: =SUMIF($C$37:$BF$37,BN$5,$C42:$BF42) -> 468.5 | BO42: =SUMIF($C$37:$BF$37,BO$5,$C42:$BF42) -> 499.5 | BP42: =SUMIF($C$37:$BF$37,BP$5,$C42:$BF42) -> 524 | ... BV42: =SUMIF($C$37:$BF$37,BV$5,$C42:$BF42) -> 640.25
...

Sheet Projection Visualization
B1: WIP Model for Intellectual Exercise
B3: james.yeh@yncm-rs.com
B4: Pinterest MAU (M)
S6: User Base | T6: 2016 | U6: 2017 | V6: 2018 | W6: 2019E | X6: 2020E | Y6: 2021E | Z6: 2022E | AA6: 2023E | AB6: 2024E | AC6: 2025E | AD6: 2026E | AE6: 2027E | AF6: 2028E | AG6: 2029E | AH6: 2030E
S7: US MAU (M) | T7: 70 | U7: ='ASM & Model'!BI38 -> 76 | V7: ='ASM & Model'!BJ38 -> 82 | W7: ='ASM & Model'!BK38 -> 86 | X7: ='ASM & Model'!BL38 -> 87.5 | Y7: ='ASM & Model'!BM38 -> 89 | Z7: ='ASM & Model'!BN38 -> 90.5 | AA7: ='ASM & Model'!BO38 -> 92 | AB7: ='ASM & Model'!BP38 -> 93.5 | ... AH7: ='ASM & Model'!BV38 -> 102.5
S8: Int'l MAU (M) | T8: 90 | U8: ='ASM & Model'!BI40 -> 139 | V8: ='ASM & Model'!BJ40 -> 184 | W8: ='ASM & Model'!BK40 -> 241 | X8: ='ASM & Model'!BL40 -> 295 | Y8: ='ASM & Model'!BM40 -> 341 | Z8: ='ASM & Model'!BN40 -> 378 | AA8: ='ASM & Model'!BO40 -> 407.5 | AB8: ='ASM & Model'!BP40 -> 430.5 | ... AH8: ='ASM & Model'!BV40 -> 537.75
S10: User Base YoY | U10: 2017 | V10: 2018 | W10: 2019E | X10: 2020E | Y10: 2021E | Z10: 2022E | AA10: 2023E | AB10: 2024E | AC10: 2025E | AD10: 2026E | AE10: 2027E | AF10: 2028E | AG10: 2029E | AH10: 2030E
S11: US MAU YoY | U11: =U7/T7-1 -> 0.085714286 | V11: =V7/U7-1 -> 0.078947368 | W11: =W7/V7-1 -> 0.048780488 | X11: =X7/W7-1 -> 0.01744186 | Y11: =Y7/X7-1 -> 0.017142857 | Z11: =Z7/Y7-1 -> 0.016853933 | AA11: =AA7/Z7-1 -> 0.016574586 | AB11: =AB7/AA7-1 -> 0.016304348 | ... AH11: =AH7/AG7-1 -> 0.014851485
S12: Int'l MAU YoY | U12: =U8/T8-1 -> 0.54444444 | V12: =V8/U8-1 -> 0.32374101 | W12: =W8/V8-1 -> 0.30978261 | X12: =X8/W8-1 -> 0.22406639 | Y12: =Y8/X8-1 -> 0.1559322 | Z12: =Z8/Y8-1 -> 0.1085044 | AA12: =AA8/Z8-1 -> 0.078042328 | AB12: =AB8/AA8-1 -> 0.056441718 | ... AH12: =AH8/AG8-1 -> 0.032645223
B37: Pinterest Monetization
T39: 2016 | U39: 2017 | V39: 2018 | W39: 2019E | X39: 2020E | Y39: 2021E | Z39: 2022E | AA39: 2023E | AB39: 2024E | AC39: 2025E | AD39: 2026E | AE39: 2027E | AF39: 2028E | AG39: 2029E | AH39: 2030E
S40: US ARPU ($) | U40: ='ASM & Model'!BI46 -> 5.9761842 | V40: ='ASM & Model'!BJ46 -> 8.7953659 | W40: ='ASM & Model'!BK46 -> 12.66186 | X40: ='ASM & Model'!BL46 -> 16.717657 | Y40: ='ASM & Model'!BM46 -> 20.972865 | Z40: ='ASM & Model'!BN46 -> 25.328204 | AA40: ='ASM & Model'!BO46 -> 29.684348 | AB40: ='ASM & Model'!BP46 -> 33.64393 | ... AH40: ='ASM & Model'!BV46 -> 46.083488
S41: Int'l ARPU ($) | U41: ='ASM & Model'!BI50 -> 0.27230216 | V41: ='ASM & Model'!BJ50 -> 0.33994565 | W41: ='ASM & Model'!BK50 -> 0.60672199 | X41: ='ASM & Model'!BL50 -> 1.3494407 | Y41: ='ASM & Model'!BM50 -> 2.5667449 | Z41: ='ASM & Model'!BN50 -> 4.0160582 | AA41: ='ASM & Model'!BO50 -> 5.6986994 | AB41: ='ASM & Model'!BP50 -> 7.6272706 | ... AH41: ='ASM & Model'!BV50 -> 19.718977
S42: Global ARPU ($) | U42: ='ASM & Model'!BI54 -> 2.2885581 | V42: ='ASM & Model'!BJ54 -> 2.9465038 | W42: ='ASM & Model'!BK54 -> 3.7771865 | X42: ='ASM & Model'!BL54 -> 4.8650458 | Y42: ='ASM & Model'!BM54 -> 6.3763837 | Z42: ='ASM & Model'!BN54 -> 8.1329189 | AA42: ='ASM & Model'!BO54 -> 10.116476 | AB42: ='ASM & Model'!BP54 -> 12.269556 | ... AH42: ='ASM & Model'!BV54 -> 23.93977
U45: 2017 | V45: 2018 | W45: 2019E | X45: 2020E | Y45: 2021E | Z45: 2022E | AA45: 2023E | AB45: 2024E | AC45: 2025E | AD45: 2026E | AE45: 2027E | AF45: 2028E | AG45: 2029E | AH45: 2030E
S46: US Revenue ($M) | U46: ='ASM & Model'!BI80/1000 -> 454.19 | V46: ='ASM & Model'!BJ80/1000 -> 721.22 | W46: ='ASM & Model'!BK80/1000 -> 1088.92 | X46: ='ASM & Model'!BL80/1000 -> 1462.795 | Y46: ='ASM & Model'!BM80/1000 -> 1866.585 | Z46: ='ASM & Model'!BN80/1000 -> 2292.2025 | AA46: ='ASM & Model'!BO80/1000 -> 2730.96 | AB46: ='ASM & Model'!BP80/1000 -> 3145.7075 | ... AH46: ='ASM & Model'!BV80/1000 -> 4723.5575
S47: Int'l Revenue ($M) | U47: ='ASM & Model'!BI83/1000 -> 37.85 | V47: ='ASM & Model'!BJ83/1000 -> 62.55 | W47: ='ASM & Model'!BK83/1000 -> 146.22 | X47: ='ASM & Model'!BL83/1000 -> 398.085 | Y47: ='ASM & Model'!BM83/1000 -> 875.26 | Z47: ='ASM & Model'!BN83/1000 -> 1518.07 | AA47: ='ASM & Model'!BO83/1000 -> 2322.22 | AB47: ='ASM & Model'!BP83/1000 -> 3283.54 | ... AH47: ='ASM & Model'!BV83/1000 -> 10603.88
S48: Global Revenue ($M) | U48: ='ASM & Model'!BI86/1000 -> 492.04 | V48: ='ASM & Model'!BJ86/1000 -> 783.77 | W48: ='ASM & Model'!BK86/1000 -> 1235.14 | X48: ='ASM & Model'!BL86/1000 -> 1860.88 | Y48: ='ASM & Model'!BM86/1000 -> 2741.845 | Z48: ='ASM & Model'!BN86/1000 -> 3810.2725 | AA48: ='ASM & Model'!BO86/1000 -> 5053.18 | AB48: ='ASM & Model'!BP86/1000 -> 6429.2475 | ... AH48: ='ASM & Model'!BV86/1000 -> 15327.438
S49: US Rev % | U49: =U46/U48 -> 0.92307536 | V49: =V46/V48 -> 0.92019342 | W49: =W46/W48 -> 0.88161666 | X49: =X46/X48 -> 0.78607702 | Y49: =Y46/Y48 -> 0.680777 | Z49: =Z46/Z48 -> 0.60158493 | AA49: =AA46/AA48 -> 0.54044384 | AB49: =AB46/AB48 -> 0.48928082 | ... AH49: =AH46/AH48 -> 0.3081766
S50: Int'l Rev % | U50: =U47/U48 -> 0.07692464 | V50: =V47/V48 -> 0.079806576 | W50: =W47/W48 -> 0.11838334 | X50: =X47/X48 -> 0.21392298 | Y50: =Y47/Y48 -> 0.319223 | Z50: =Z47/Z48 -> 0.39841507 | AA50: =AA47/AA48 -> 0.45955616 | AB50: =AB47/AB48 -> 0.51071918 | ... AH50: =AH47/AH48 -> 0.6918234
S52: US Rev YoY | V52: =V46/U46-1 -> 0.58792576 | W52: =W46/V46-1 -> 0.50983056 | X52: =X46/W46-1 -> 0.34334478 | Y52: =Y46/X46-1 -> 0.27604005 | Z52: =Z46/Y46-1 -> 0.22801935 | AA52: =AA46/Z46-1 -> 0.19141306 | AB52: =AB46/AA46-1 -> 0.15186876 | AC52: =AC46/AB46-1 -> 0.12364071 | ... AH52: =AH46/AG46-1 -> 0.027855782
S53: Int'l Rev YoY | V53: =V47/U47-1 -> 0.65257596 | W53: =W47/V47-1 -> 1.3376499 | X53: =X47/W47-1 -> 1.7225072 | Y53: =Y47/X47-1 -> 1.1986762 | Z53: =Z47/Y47-1 -> 0.73442177 | AA53: =AA47/Z47-1 -> 0.52971866 | AB53: =AB47/AA47-1 -> 0.41396595 | AC53: =AC47/AB47-1 -> 0.32590512 | ... AH53: =AH47/AG47-1 -> 0.11389389
S54: Global Rev YoY | V54: =V48/U48-1 -> 0.59289895 | W54: =W48/V48-1 -> 0.57589599 | X54: =X48/W48-1 -> 0.50661463 | Y54: =Y48/X48-1 -> 0.47341312 | Z54: =Z48/Y48-1 -> 0.38967465 | AA54: =AA48/Z48-1 -> 0.32619911 | AB54: =AB48/AA48-1 -> 0.27231713 | AC54: =AC48/AB48-1 -> 0.22694102 | ... AH54: =AH48/AG48-1 -> 0.085882094
B87: Pinterest Margin Profile & Trojectory
U89: 2017 | V89: 2018 | W89: 2019E | X89: 2020E | Y89: 2021E | Z89: 2022E | AA89: 2023E | AB89: 2024E | AC89: 2025E | AD89: 2026E | AE89: 2027E | AF89: 2028E | AG89: 2029E | AH89: 2030E
S90: Gross Margin (%) | U90: ='ASM & Model'!BI12 -> 0.62215662 | V90: ='ASM & Model'!BJ12 -> 0.6804157 | W90: ='ASM & Model'!BK12 -> 0.66891246 | X90: ='ASM & Model'!BL12 -> 0.68039821 | Y90: ='ASM & Model'!BM12 -> 0.6900954 | Z90: ='ASM & Model'!BN12 -> 0.69971419 | AA90: ='ASM & Model'!BO12 -> 0.71042985 | AB90: ='ASM & Model'!BP12 -> 0.71989778 | ... AH90: ='ASM & Model'!BV12 -> 0.72886775
S91: Operating Margin (%) | U91: ='ASM & Model'!BI21 -> -0.2917065 | V91: ='ASM & Model'!BJ21 -> -0.098846193 | W91: ='ASM & Model'!BK21 -> -1.0920737 | X91: ='ASM & Model'!BL21 -> -0.16829882 | Y91: ='ASM & Model'!BM21 -> -0.089929533 | Z91: ='ASM & Model'!BN21 -> -0.032876947 | AA91: ='ASM & Model'!BO21 -> 0.054628943 | AB91: ='ASM & Model'!BP21 -> 0.085395736 | ... AH91: ='ASM & Model'!BV21 -> 0.16869944
S92: EBITDA Margin (%) | U92: ='ASM & Model'!BI24 -> -0.25758377 | V92: ='ASM & Model'!BJ24 -> -0.071252441 | W92: ='ASM & Model'!BK24 -> -1.0665592 | X92: ='ASM & Model'!BL24 -> -0.14329882 | Y92: ='ASM & Model'!BM24 -> -0.064929533 | Z92: ='ASM & Model'!BN24 -> -0.0078769467 | AA92: ='ASM & Model'!BO24 -> 0.079628943 | AB92: ='ASM & Model'!BP24 -> 0.11039574 | ... AH92: ='ASM & Model'!BV24 -> 0.19369944
S93: Adj. EBITDA Margin (%) | U93: ='ASM & Model'!BI27 -> -0.1966683 | V93: ='ASM & Model'!BJ27 -> -0.051595911 | W93: ='ASM & Model'!BK27 -> -0.038969554 | X93: ='ASM & Model'!BL27 -> -0.023468726 | Y93: ='ASM & Model'!BM27 -> 0.017155401 | Z93: ='ASM & Model'!BN27 -> 0.051846897 | AA93: ='ASM & Model'!BO27 -> 0.082105571 | AB93: ='ASM & Model'!BP27 -> 0.11278519 | ... AH93: ='ASM & Model'!BV27 -> 0.19579213
B130: Pinterest Cashflow & Cash Balance
T133: 2019E | U133: 2020E | V133: 2021E | W133: 2022E | X133: 2023E | Y133: 2024E | Z133: 2025E | AA133: 2026E | AB133: 2027E | AC133: 2028E | AD133: 2029E | AE133: 2030E
S134: FCF | T134: ='ASM & Model'!BK75 -> -282024.13 | U134: ='ASM & Model'!BL75 -> -426159.88 | V134: ='ASM & Model'!BM75 -> -430575.31 | W134: ='ASM & Model'!BN75 -> -328309.36 | X134: ='ASM & Model'!BO75 -> -27047.194 | Y134: ='ASM & Model'!BP75 -> 236878.35 | Z134: ='ASM & Model'!BQ75 -> 413665.63 | AA134: ='ASM & Model'!BR75 -> 704936.52 | ... AE134: ='ASM & Model'!BV75 -> 1777240.9
S136: Cash Balance | T136: ='ASM & Model'!BK77 -> 1620376.9 | U136: ='ASM & Model'!BL77 -> 1194217 | V136: ='ASM & Model'!BM77 -> 763641.68 | W136: ='ASM & Model'!BN77 -> 435332.32 | X136: ='ASM & Model'!BO77 -> 408285.12 | Y136: ='ASM & Model'!BP77 -> 645163.47 | Z136: ='ASM & Model'!BQ77 -> 1058829.1 | AA136: ='ASM & Model'!BR77 -> 1763765.6 | ... AE136: ='ASM & Model'!BV77 -> 7092672.8

Sheet Valuation
B1: WIP Model for Intellectual Exercise
B3: james.yeh@yncm-rs.com
B4: Annual Summary (In thousands) | C4: ='ASM & Model'!BI5 -> 2017 | D4: ='ASM & Model'!BJ5 -> 2018 | E4: ='ASM & Model'!BK5 -> 2019 | F4: ='ASM & Model'!BL5 -> 2020 | G4: ='ASM & Model'!BM5 -> 2021 | H4: ='ASM & Model'!BN5 -> 2022 | I4: ='ASM & Model'!BO5 -> 2023 | J4: ='ASM & Model'!BP5 -> 2024 | ... P4: ='ASM & Model'!BV5 -> 2030
B6: ='ASM & Model'!BH7 -> Revenue | C6: ='ASM & Model'!BI7 -> 472852 | D6: ='ASM & Model'!BJ7 -> 755932 | E6: ='ASM & Model'!BK7 -> 1212770 | F6: ='ASM & Model'!BL7 -> 1860880 | G6: ='ASM & Model'!BM7 -> 2741845 | H6: ='ASM & Model'!BN7 -> 3810272.5 | I6: ='ASM & Model'!BO7 -> 5053180 | ... P6: ='ASM & Model'!BV7 -> 15327438 | R6: x
B7: ='ASM & Model'!BH9 -> YoY (%) | D7: ='ASM & Model'!BJ9 -> 0.59866512 | E7: ='ASM & Model'!BK9 -> 0.60433743 | F7: ='ASM & Model'!BL9 -> 0.53440471 | G7: ='ASM & Model'!BM9 -> 0.47341312 | H7: ='ASM & Model'!BN9 -> 0.38967465 | I7: ='ASM & Model'!BO9 -> 0.32619911 | J7: ='ASM & Model'!BP9 -> 0.27231713 | K7: ='ASM & Model'!BQ9 -> 0.22694102 | ... P7: ='ASM & Model'!BV9 -> 0.085882094 | R7: x
B8: ='ASM & Model'!BH10 -> Cost of Revenue | C8: ='ASM & Model'!BI10 -> 178664 | D8: ='ASM & Model'!BJ10 -> 241584 | E8: ='ASM & Model'!BK10 -> 401533.04 | F8: ='ASM & Model'!BL10 -> 594740.58 | G8: ='ASM & Model'!BM10 -> 849710.38 | H8: ='ASM & Model'!BN10 -> 1144170.8 | I8: ='ASM & Model'!BO10 -> 1463250.1 | ... P8: ='ASM & Model'!BV10 -> 4155762.6 | R8: x
B9: ='ASM & Model'!BH11 -> Gross Profit | C9: ='ASM & Model'!BI11 -> 294188 | D9: ='ASM & Model'!BJ11 -> 514348 | E9: ='ASM & Model'!BK11 -> 811236.96 | F9: ='ASM & Model'!BL11 -> 1266139.4 | G9: ='ASM & Model'!BM11 -> 1892134.6 | H9: ='ASM & Model'!BN11 -> 2666101.7 | I9: ='ASM & Model'!BO11 -> 3589929.9 | ... P9: ='ASM & Model'!BV11 -> 11171675 | R9: x
B10: ='ASM & Model'!BH12 -> Gross Margin (%) | C10: ='ASM & Model'!BI12 -> 0.62215662 | D10: ='ASM & Model'!BJ12 -> 0.6804157 | E10: ='ASM & Model'!BK12 -> 0.66891246 | F10: ='ASM & Model'!BL12 -> 0.68039821 | G10: ='ASM & Model'!BM12 -> 0.6900954 | H10: ='ASM & Model'!BN12 -> 0.69971419 | I10: ='ASM & Model'!BO12 -> 0.71042985 | ... P10: ='ASM & Model'!BV12 -> 0.72886775 | R10: x
R11: x
B12: ='ASM & Model'!BH14 -> Research & Development Exp. | C12: ='ASM & Model'!BI14 -> 207973 | D12: ='ASM & Model'!BJ14 -> 251662 | E12: ='ASM & Model'!BK14 -> 1167942.4 | F12: ='ASM & Model'!BL14 -> 699185.65 | G12: ='ASM & Model'!BM14 -> 922319.67 | H12: ='ASM & Model'!BN14 -> 1193069.8 | I12: ='ASM & Model'!BO14 -> 1353415.9 | ... P12: ='ASM & Model'!BV14 -> 3451442.4 | R12: x
B13: ='ASM & Model'!BH15 -> R&D Exp. Ratio (%) | C13: ='ASM & Model'!BI15 -> 0.43982684 | D13: ='ASM & Model'!BJ15 -> 0.33291619 | E13: ='ASM & Model'!BK15 -> 0.96303699 | F13: ='ASM & Model'!BL15 -> 0.3757285 | G13: ='ASM & Model'!BM15 -> 0.33638651 | H13: ='ASM & Model'!BN15 -> 0.31311928 | I13: ='ASM & Model'!BO15 -> 0.2678345 | ... P13: ='ASM & Model'!BV15 -> 0.22518065 | R13: x
B14: ='ASM & Model'!BH16 -> Sales & Marketing Exp. | C14: ='ASM & Model'!BI16 -> 162514 | D14: ='ASM & Model'!BJ16 -> 259929 | E14: ='ASM & Model'!BK16 -> 629926.48 | F14: ='ASM & Model'!BL16 -> 659432.83 | G14: ='ASM & Model'!BM16 -> 913795.27 | H14: ='ASM & Model'!BN16 -> 1199356 | I14: ='ASM & Model'!BO16 -> 1490346.9 | ... P14: ='ASM & Model'!BV16 -> 3919132.4 | R14: x
B15: ='ASM & Model'!BH17 -> S&M Exp. Ratio (%) | C15: ='ASM & Model'!BI17 -> 0.34368893 | D15: ='ASM & Model'!BJ17 -> 0.34385236 | E15: ='ASM & Model'!BK17 -> 0.51941133 | F15: ='ASM & Model'!BL17 -> 0.35436612 | G15: ='ASM & Model'!BM17 -> 0.33327751 | H15: ='ASM & Model'!BN17 -> 0.31476908 | I15: ='ASM & Model'!BO17 -> 0.29493247 | ... P15: ='ASM & Model'!BV17 -> 0.25569391 | R15: x
B16: ='ASM & Model'!BH18 -> General & Administrative Exp. | C16: ='ASM & Model'!BI18 -> 61635 | D16: ='ASM & Model'!BJ18 -> 77478 | E16: ='ASM & Model'!BK18 -> 337802.34 | F16: ='ASM & Model'!BL18 -> 220704.86 | G16: ='ASM & Model'!BM18 -> 302592.53 | H16: ='ASM & Model'!BN18 -> 398946.13 | I16: ='ASM & Model'!BO18 -> 470117.22 | ... P16: ='ASM & Model'!BV18 -> 1215370 | R16: x
B17: ='ASM & Model'!BH19 -> G&A Exp. Ratio | C17: ='ASM & Model'!BI19 -> 0.13034734 | D17: ='ASM & Model'!BJ19 -> 0.10249335 | E17: ='ASM & Model'!BK19 -> 0.27853784 | F17: ='ASM & Model'!BL19 -> 0.11860241 | G17: ='ASM & Model'!BM19 -> 0.11036092 | H17: ='ASM & Model'!BN19 -> 0.10470278 | I17: ='ASM & Model'!BO19 -> 0.093033935 | ... P17: ='ASM & Model'!BV19 -> 0.079293751 | R17: x
B18: ='ASM & Model'!BH20 -> Operating P&L | C18: ='ASM & Model'!BI20 -> -137934 | D18: ='ASM & Model'!BJ20 -> -74721 | E18: ='ASM & Model'!BK20 -> -1324434.2 | F18: ='ASM & Model'!BL20 -> -313183.92 | G18: ='ASM & Model'!BM20 -> -246572.84 | H18: ='ASM & Model'!BN20 -> -125270.13 | I18: ='ASM & Model'!BO20 -> 276049.88 | ... P18: ='ASM & Model'!BV20 -> 2585730.1 | R18: x
B19: ='ASM & Model'!BH21 -> Operating Margin (%) | C19: ='ASM & Model'!BI21 -> -0.2917065 | D19: ='ASM & Model'!BJ21 -> -0.098846193 | E19: ='ASM & Model'!BK21 -> -1.0920737 | F19: ='ASM & Model'!BL21 -> -0.16829882 | G19: ='ASM & Model'!BM21 -> -0.089929533 | H19: ='ASM & Model'!BN21 -> -0.032876947 | I19: ='ASM & Model'!BO21 -> 0.054628943 | ... P19: ='ASM & Model'!BV21 -> 0.16869944 | R19: x
B20: ='ASM & Model'!BH22 -> + D&A Exp. | C20: ='ASM & Model'!BI22 -> 16135 | D20: ='ASM & Model'!BJ22 -> 20859 | E20: ='ASM & Model'!BK22 -> 30943.25 | F20: ='ASM & Model'!BL22 -> 46522 | G20: ='ASM & Model'!BM22 -> 68546.125 | H20: ='ASM & Model'!BN22 -> 95256.812 | I20: ='ASM & Model'!BO22 -> 126329.5 | ... P20: ='ASM & Model'!BV22 -> 383185.94 | R20: x
B21: = EBITDA | C21: =C18+C20 -> -121799 | D21: =D18+D20 -> -53862 | E21: =E18+E20 -> -1293491 | F21: =F18+F20 -> -266661.92 | G21: =G18+G20 -> -178026.72 | H21: =H18+H20 -> -30013.313 | I21: =I18+I20 -> 402379.38 | J21: =J18+J20 -> 709761.51 | ... P21: =P18+P20 -> 2968916 | R21: x
B22: EBITDA Margin (%) | C22: =C21/C6 -> -0.25758377 | D22: =D21/D6 -> -0.071252441 | E22: =E21/E6 -> -1.0665592 | F22: =F21/F6 -> -0.14329882 | G22: =G21/G6 -> -0.064929533 | H22: =H21/H6 -> -0.0078769467 | I22: =I21/I6 -> 0.079628943 | J22: =J21/J6 -> 0.11039574 | ... P22: =P21/P6 -> 0.19369944 | R22: x
B23: ='ASM & Model'!BH25 -> + SBC | C23: ='ASM & Model'!BI25 -> 28804 | D23: ='ASM & Model'!BJ25 -> 14859 | E23: ='ASM & Model'!BK25 -> 1246229.9 | F23: ='ASM & Model'!BL25 -> 222989.43 | G23: ='ASM & Model'!BM25 -> 225064.17 | H23: ='ASM & Model'!BN25 -> 227564.12 | I23: ='ASM & Model'!BO25 -> 12514.846 | ... P23: ='ASM & Model'!BV25 -> 32075.535 | R23: x
B24: ='ASM & Model'!BH26 -> = Adjusted EBITDA | C24: ='ASM & Model'!BI26 -> -92995 | D24: ='ASM & Model'!BJ26 -> -39003 | E24: ='ASM & Model'!BK26 -> -47261.106 | F24: ='ASM & Model'!BL26 -> -43672.483 | G24: ='ASM & Model'!BM26 -> 47037.451 | H24: ='ASM & Model'!BN26 -> 197550.81 | I24: ='ASM & Model'!BO26 -> 414894.23 | ... P24: ='ASM & Model'!BV26 -> 3000991.6 | R24: x
B25: ='ASM & Model'!BH27 -> Adjusted EBITDA Margin (%) | C25: ='ASM & Model'!BI27 -> -0.1966683 | D25: ='ASM & Model'!BJ27 -> -0.051595911 | E25: ='ASM & Model'!BK27 -> -0.038969554 | F25: ='ASM & Model'!BL27 -> -0.023468726 | G25: ='ASM & Model'!BM27 -> 0.017155401 | H25: ='ASM & Model'!BN27 -> 0.051846897 | I25: ='ASM & Model'!BO27 -> 0.082105571 | ... P25: ='ASM & Model'!BV27 -> 0.19579213 | R25: x
B26: ='ASM & Model'!BH29 -> YoY Percentage Point Change | C26: ='ASM & Model'!BI29 -> 0 | D26: ='ASM & Model'!BJ29 -> 0.14507239 | E26: ='ASM & Model'!BK29 -> 0.012626357 | F26: ='ASM & Model'!BL29 -> 0.015500828 | G26: ='ASM & Model'!BM29 -> 0.040624127 | H26: ='ASM & Model'!BN29 -> 0.034691496 | I26: ='ASM & Model'!BO29 -> 0.030258674 | ... P26: ='ASM & Model'!BV29 -> 0.0120382 | R26: x
B27: ='ASM & Model'!BH30 -> Int. Income | C27: ='ASM & Model'!BI30 -> 8313 | D27: ='ASM & Model'!BJ30 -> 13152 | E27: ='ASM & Model'!BK30 -> 28186 | F27: ='ASM & Model'!BL30 -> 32000 | G27: ='ASM & Model'!BM30 -> 32000 | H27: ='ASM & Model'!BN30 -> 32000 | I27: ='ASM & Model'!BO30 -> 32000 | ... P27: ='ASM & Model'!BV30 -> 32000 | R27: x
B28: ='ASM & Model'!BH31 -> Int. Exp. & Other Income / Exp., net | C28: ='ASM & Model'!BI31 -> -112 | D28: ='ASM & Model'!BJ31 -> -995 | E28: ='ASM & Model'!BK31 -> -1948 | F28: ='ASM & Model'!BL31 -> -2000 | G28: ='ASM & Model'!BM31 -> -2000 | H28: ='ASM & Model'!BN31 -> -2000 | I28: ='ASM & Model'!BO31 -> -2000 | ... P28: ='ASM & Model'!BV31 -> -2000 | R28: x
B29: ='ASM & Model'!BH32 -> Income / Loss before Income Taxes | C29: ='ASM & Model'!BI32 -> -129733 | D29: ='ASM & Model'!BJ32 -> -62564 | E29: ='ASM & Model'!BK32 -> -1298196.2 | F29: ='ASM & Model'!BL32 -> -13672.483 | G29: ='ASM & Model'!BM32 -> 77037.451 | H29: ='ASM & Model'!BN32 -> 227550.81 | I29: ='ASM & Model'!BO32 -> 444894.23 | ... P29: ='ASM & Model'!BV32 -> 3030991.6 | R29: x
B30: ='ASM & Model'!BH33 -> Income Taxes | C30: ='ASM & Model'!BI33 -> 311 | D30: ='ASM & Model'!BJ33 -> 410 | E30: ='ASM & Model'!BK33 -> 190 | F30: ='ASM & Model'!BL33 -> 4637.1618 | G30: ='ASM & Model'!BM33 -> 20431.668 | H30: ='ASM & Model'!BN33 -> 43319.726 | I30: ='ASM & Model'!BO33 -> 86134.403 | ... P30: ='ASM & Model'!BV33 -> 646432.53 | R30: x
B31: ='ASM & Model'!BH34 -> Net Income / Loss | C31: ='ASM & Model'!BI34 -> -130044 | D31: ='ASM & Model'!BJ34 -> -62974 | E31: ='ASM & Model'!BK34 -> -1298386.2 | F31: ='ASM & Model'!BL34 -> -18309.645 | G31: ='ASM & Model'!BM34 -> 56605.783 | H31: ='ASM & Model'!BN34 -> 184231.08 | I31: ='ASM & Model'!BO34 -> 358759.83 | ... P31: ='ASM & Model'!BV34 -> 2384559.1 | R31: x
R32: x
B33: ='ASM & Model'!BH67 -> Cash Flow | E33: Now | F33: 0.5 | G33: =F33+1 -> 1.5 | H33: =G33+1 -> 2.5 | I33: =H33+1 -> 3.5 | J33: =I33+1 -> 4.5 | K33: =J33+1 -> 5.5 | L33: =K33+1 -> 6.5 | M33: =L33+1 -> 7.5 | N33: =M33+1 -> 8.5 | ... P33: =O33+1 -> 10.5 | R33: x
B34: ='ASM & Model'!BH68 -> Operating P&L | C34: ='ASM & Model'!BI68 -> -137934 | D34: ='ASM & Model'!BJ68 -> -74721 | E34: ='ASM & Model'!BK68 -> -1324434.2 | F34: ='ASM & Model'!BL68 -> -313183.92 | G34: ='ASM & Model'!BM68 -> -246572.84 | H34: ='ASM & Model'!BN68 -> -125270.13 | I34: ='ASM & Model'!BO68 -> 276049.88 | ... P34: ='ASM & Model'!BV68 -> 2585730.1 | R34: x
B35: ='ASM & Model'!BH69 -> NOPAT | C35: ='ASM & Model'!BI69 -> -138245 | D35: ='ASM & Model'!BJ69 -> -75131 | E35: ='ASM & Model'!BK69 -> -1324624.2 | F35: ='ASM & Model'!BL69 -> -317821.08 | G35: ='ASM & Model'!BM69 -> -267004.51 | H35: ='ASM & Model'!BN69 -> -168589.85 | I35: ='ASM & Model'!BO69 -> 189915.48 | ... P35: ='ASM & Model'!BV69 -> 1939297.6 | R35: x
B36: ='ASM & Model'!BH70 -> Tax Rate | C36: ='ASM & Model'!BI70 -> 0 | D36: ='ASM & Model'!BJ70 -> 0 | E36: ='ASM & Model'!BK70 -> 0 | F36: ='ASM & Model'!BL70 -> 0 | G36: ='ASM & Model'!BM70 -> 0 | H36: ='ASM & Model'!BN70 -> 0 | I36: ='ASM & Model'!BO70 -> 0 | ... P36: ='ASM & Model'!BV70 -> 0 | R36: x
B37: ='ASM & Model'!BH71 -> + D&A Exp. | C37: ='ASM & Model'!BI71 -> 16135 | D37: ='ASM & Model'!BJ71 -> 20859 | E37: ='ASM & Model'!BK71 -> 30943.25 | F37: ='ASM & Model'!BL71 -> 46522 | G37: ='ASM & Model'!BM71 -> 68546.125 | H37: ='ASM & Model'!BN71 -> 95256.812 | I37: ='ASM & Model'!BO71 -> 126329.5 | ... P37: ='ASM & Model'!BV71 -> 383185.94 | R37: x
B38: ='ASM & Model'!BH72 -> + SBC | C38: ='ASM & Model'!BI72 -> 28804 | D38: ='ASM & Model'!BJ72 -> 14859 | E38: ='ASM & Model'!BK72 -> 1246229.9 | F38: ='ASM & Model'!BL72 -> 222989.43 | G38: ='ASM & Model'!BM72 -> 225064.17 | H38: ='ASM & Model'!BN72 -> 227564.12 | I38: ='ASM & Model'!BO72 -> 12514.846 | ... P38: ='ASM & Model'!BV72 -> 32075.535 | R38: x
B39: ='ASM & Model'!BH73 -> - Changes in NWC | E39: ='ASM & Model'!BK73 -> 95114 | F39: ='ASM & Model'!BL73 -> 111013.2 | G39: ='ASM & Model'!BM73 -> 167383.35 | H39: ='ASM & Model'!BN73 -> 164898.5 | I39: ='ASM & Model'!BO73 -> 223723.35 | J39: ='ASM & Model'!BP73 -> 183399.68 | K39: ='ASM & Model'!BQ73 -> 248040.2 | L39: ='ASM & Model'!BR73 -> 165215.32 | ... P39: ='ASM & Model'!BV73 -> 181836.38 | R39: x
B40: ='ASM & Model'!BH74 -> - Capex | E40: ='ASM & Model'!BK74 -> 28522.15 | F40: ='ASM & Model'!BL74 -> 43847.6 | G40: ='ASM & Model'!BM74 -> 64733.575 | H40: ='ASM & Model'!BN74 -> 90077.825 | I40: ='ASM & Model'!BO74 -> 119568.82 | J40: ='ASM & Model'!BP74 -> 152225.9 | K40: ='ASM & Model'!BQ74 -> 186851.38 | L40: ='ASM & Model'!BR74 -> 223057.35 | ... P40: ='ASM & Model'!BV74 -> 363406.23 | R40: x
B41: ='ASM & Model'!BH75 -> = FCF | E41: ='ASM & Model'!BK75 -> -282024.13 | F41: ='ASM & Model'!BL75 -> -426159.88 | G41: ='ASM & Model'!BM75 -> -430575.31 | H41: ='ASM & Model'!BN75 -> -328309.36 | I41: ='ASM & Model'!BO75 -> -27047.194 | J41: ='ASM & Model'!BP75 -> 236878.35 | K41: ='ASM & Model'!BQ75 -> 413665.63 | L41: ='ASM & Model'!BR75 -> 704936.52 | ... P41: ='ASM & Model'!BV75 -> 1777240.9 | R41: x
B42: ='ASM & Model'!BH76 -> Beginning Cash & Mkt Securities | C42: ='ASM & Model'!BI76 -> 0 | D42: ='ASM & Model'!BJ76 -> 711628 | E42: ='ASM & Model'!BK76 -> 627813 | F42: ='ASM & Model'!BL76 -> 1620376.9 | G42: ='ASM & Model'!BM76 -> 1194217 | H42: ='ASM & Model'!BN76 -> 763641.68 | I42: ='ASM & Model'!BO76 -> 435332.32 | ... P42: ='ASM & Model'!BV76 -> 5315431.9 | R42: x
...

Sheet Data
C1: December 31, | I1: 43190 | J1: 43281 | K1: 43555 | L1: 43646
B2: ASSETS | C2: 2017 | D2: 2018 | I2: Three Months Ended March 31, | J2: Six Months Ended June 30, | K2: Three Months Ended March 31, | L2: Six Months Ended June 30,
B3: Current assets: | I3: 2018 | J3: 2018 | K3: 2019 | L3: 2019
B4: Cash and cash equivalents | C4: 71468 | D4: 122509 | H4: Operating activities
B5: Marketable securities | C5: 640160 | D5: 505304 | H5: Net loss | I5: -52709 | J5: -91116 | K5: -41420 | L5: -1200921
B6: Accounts receivable net of allowances of $2,408 and $3,097 as of December 31, 2017 and 2018, respectively | C6: 136597 | D6: 221932 | F6: =C6+C7+C10+C12+C13-C17-C18-C20-C21 -> 111015 | G6: =D6+D7+D10+D12+D13-D17-D18-D20-D21 -> 147440 | H6: Adjustments to reconcile net loss to net cash used in operating activities:
B7: Prepaid expenses and other current assets | C7: 38734 | D7: 39607 | H7: Depreciation and amortization | I7: 4787 | J7: 10298 | K7: 5696 | L7: 12203
B8: Total current assets | C8: 886959 | D8: 889352 | H8: Share-based compensation | I8: 4834 | J8: 8793 | K8: 694 | L8: 1135293
B9: Property and equipment, net | C9: 87255 | D9: 81512 | H9: Other | I9: 654 | J9: 1287 | K9: -993 | L9: -2713
B10: Operating lease right-of-use assets | C10: 152257 | D10: 145203 | H10: Changes in assets and liabilities:
B11: Goodwill and intangible assets, net | C11: 9037 | D11: 14071 | H11: Accounts receivable | I11: 39309 | J11: 14599 | K11: 61329 | L11: 19615
B12: Restricted cash | C12: 11650 | D12: 11724 | H12: Prepaid expenses and other assets | I12: 7102 | J12: 11303 | K12: 510 | L12: -6174
B13: Other assets | C13: 25887 | D13: 10869 | H13: Operating lease right-of-use assets | I13: 4551 | J13: 9063 | K13: 6427 | L13: 14040
B14: Total assets | C14: 1173045 | D14: 1152731 | H14: Accounts payable | I14: 4484 | J14: 3286 | K14: 7481 | L14: 7189
B15: LIABILITIES, REDEEMABLE CONVERTIBLE PREFERRED STOCK AND STOCKHOLDERS' EQUITY (DEFICIT) | H15: Accrued expenses and other liabilities | I15: 2696 | J15: 10704 | K15: -2024 | L15: 15310
B16: Current liabilities: | H16: Operating lease liabilities | I16: -2174 | J16: -7044 | K16: -4578 | L16: -10217
B17: Accounts payable | C17: 15428 | D17: 22169 | H17: Net cash used in operating activities | I17: 13534 | J17: -28827 | K17: 33122 | L17: -16375
B18: Accrued expenses and other current liabilities | C18: 64374 | D18: 86258 | H18: Investing activities
B19: Total current liabilities | C19: 79802 | D19: 108427 | H19: Purchases of property and equipment | I19: -8240 | J19: -13585 | K19: -3706 | L19: -11914
B20: Operating lease liabilities | C20: 162273 | D20: 151395 | H20: Purchases of marketable securities | I20: -83569 | J20: -298425 | K20: -113952 | L20: -159315
B21: Other liabilities | C21: 12035 | D21: 22073 | H21: Sales of marketable securities | I21: 36408 | J21: 42392 | K21: 28953 | L21: 60239
B22: Total liabilities | C22: 254110 | D22: 281895 | H22: Maturities of marketable securities | I22: 142428 | J22: 338028 | K22: 84883 | L22: 166288
B23: Commitments and contingencies | H23: Net cash provided by investing activities | I23: 87027 | J23: 68410 | K23: -3822 | L23: 55298
B24: Redeemable convertible preferred stock, $0.00001 par value, 928,676 shares authorized; 308,373 shares issued and outstanding as of December 31, 2017 and 2018; aggregate liquidation preference of $1,466,902 as of December 31, 2017 and 2018; no shares authorized, issued and outstanding, pro forma (unaudited) | C24: 1465399 | D24: 1465399 | H24: Financing activities
B25: Stockholders' equity (deficit): | H25: Proceeds from initial public offering, net of underwriters' discounts and commissions | J25: 0 | L25: 1573200
B26: Common stock, $0.00001 par value, 1,932,500 shares authorized; 126,771 and 127,298 shares issued and outstanding as of December 31, 2017 and 2018; 452,524 shares issued and outstanding, pro forma (unaudited) | C26: 1 | D26: 1 | H26: Proceeds from exercise of stock options, net | I26: 435 | J26: 861 | K26: 110 | L26: 702
B27: Additional paid-in capital | C27: 236682 | D27: 252212 | H27: Shares repurchased for tax withholdings on release of restricted stock units | J27: 0 | L27: -302675
B28: Accumulated other comprehensive loss | C28: -766 | D28: -1421 | H28: Other financing activities | I28: 0 | K28: -3279
B29: Accumulated deficit | C29: -782381 | D29: -845355 | H29: Payment of deferred offering costs and other financing activities | J29: 0 | L29: -10103
B30: Total stockholders' equity (deficit) | C30: -546464 | D30: -594563 | H30: Net cash provided by financing activities | I30: 435 | J30: 861 | K30: -3169 | L30: 1261124
B31: Total liabilities, redeemable convertible preferred stock, and stockholders' equity (deficit) | C31: 1173045 | D31: 1152731 | H31: Effect of exchange rate changes on cash, cash equivalents, and restricted cash | I31: 48 | J31: -110 | K31: 8 | L31: -17
H32: Net increase in cash, cash equivalents, and restricted cash | I32: 101044 | J32: 40334 | K32: 26139 | L32: 1300030
C33: 43465 | D33: 43555 | E33: 43646 | H33: Cash, cash equivalents, and restricted cash, beginning of period | I33: 83969 | J33: 83969 | K33: 135290 | L33: 135290
C34: December 31, | D34: March 31, | E34: June 30, | H34: Cash, cash equivalents, and restricted cash, end of period | I34: 185013 | J34: 124303 | K34: 161429 | L34: 1435320
C35: 2018 | D35: 2019 | E35: 2019 | H35: Supplemental cash flow information
B36: ASSETS | H36: Accrued property and equipment | J36: 4283 | L36: 4618
B37: Current assets: | H37: Operating lease right-of-use assets obtained in exchange for operating lease liabilities | J37: 2912 | L37: 23381
B38: Cash and cash equivalents | C38: 122509 | D38: 134648 | E38: 1408739
B39: Marketable securities | C39: 505304 | D39: 507568 | E39: 442009
B40: Accounts receivable net of allowances of $2,600 and $3,097 as of March 31, 2019 and December 31, 2018, respectively | C40: 221932 | D40: 161108 | E40: 202957 | G40: =SUM(D40:D41,D44,D46:D47)-SUM(D51:D52,D54:D55) -> 92435
...

Sheet Comps
B15: < 2019/10/19 from atom finance >
